BEGIN:VCALENDAR
VERSION:2.0
PRODID:-//Sauna Bund e.V. - ECPv6.15.12.2//NONSGML v1.0//EN
CALSCALE:GREGORIAN
METHOD:PUBLISH
X-ORIGINAL-URL:https://sauna-bund.de
X-WR-CALDESC:Veranstaltungen für Sauna Bund e.V.
REFRESH-INTERVAL;VALUE=DURATION:PT1H
X-Robots-Tag:noindex
X-PUBLISHED-TTL:PT1H
BEGIN:VTIMEZONE
TZID:Europe/Berlin
BEGIN:DAYLIGHT
TZOFFSETFROM:+0100
TZOFFSETTO:+0200
TZNAME:CEST
DTSTART:20250330T010000
END:DAYLIGHT
BEGIN:STANDARD
TZOFFSETFROM:+0200
TZOFFSETTO:+0100
TZNAME:CET
DTSTART:20251026T010000
END:STANDARD
BEGIN:DAYLIGHT
TZOFFSETFROM:+0100
TZOFFSETTO:+0200
TZNAME:CEST
DTSTART:20260329T010000
END:DAYLIGHT
BEGIN:STANDARD
TZOFFSETFROM:+0200
TZOFFSETTO:+0100
TZNAME:CET
DTSTART:20261025T010000
END:STANDARD
BEGIN:DAYLIGHT
TZOFFSETFROM:+0100
TZOFFSETTO:+0200
TZNAME:CEST
DTSTART:20270328T010000
END:DAYLIGHT
BEGIN:STANDARD
TZOFFSETFROM:+0200
TZOFFSETTO:+0100
TZNAME:CET
DTSTART:20271031T010000
END:STANDARD
END:VTIMEZONE
BEGIN:VEVENT
DTSTART;TZID=Europe/Berlin:20261201T090000
DTEND;TZID=Europe/Berlin:20261201T170000
DTSTAMP:20260421T205523
CREATED:20250930T083449Z
LAST-MODIFIED:20250930T093321Z
UID:14530-1796115600-1796144400@sauna-bund.de
SUMMARY:Ausbildung zum Fachpersonal für Saunaaufgüsse- Theorie
DESCRIPTION:Im theoretischen Teil der Ausbildung „Fachpersonal für Saunaaufgüsse“ werden die Rahmenbedingungen\, unter denen Saunaaufgüsse in öffentlichen Saunabetrieben durchgeführt werden\, ausführlich besprochen: Menge des Aufgusswassers\, Temperatur in der Sauna und die Zeitdauer. Auch auf die klimatischen Veränderungen während des Aufgusses wird hingewiesen. Die Begrüßung\, Sicherheitshinweise für den Aufguss sowie Gesundheitsempfehlungen für die Mitarbeiterinnen und Mitarbeiter sind weitere Themenschwerpunkte. \nFür den Einsatz der Aufgussmittel wird zunächst ein Einblick in die Duftherstellung gegeben. Der Riechvorgang wird erläutert und einige wichtige Aspekte zur Psychologie des Riechens angesprochen. Einzelne ätherische Öle werden detailliert besprochen und Qualitätsmerkmale vorgestellt. Die Wirkung von Düften wird erklärt\, Aufnahmewege über Haut und Atemwege werden dargestellt. Eine Übersicht der Einteilung von Düften in Kopf-\, Herz- und Basisnoten rundet den Vortrag ab. \nMehr Informationen hier.
URL:https://sauna-bund.de/event/fachpersonal-fuer-saunaaufguesse-theorie-4/
LOCATION:Geschäftsstelle Deutscher Sauna-Bund e.V.\, Meisenstraße 83\, Bielefeld\, NRW\, 33607\, Germany
CATEGORIES:Inhouse Schulungen,Seminar
END:VEVENT
BEGIN:VEVENT
DTSTART;TZID=Europe/Berlin:20261202T090000
DTEND;TZID=Europe/Berlin:20261202T170000
DTSTAMP:20260421T205523
CREATED:20250930T101206Z
LAST-MODIFIED:20251216T113332Z
UID:14551-1796202000-1796230800@sauna-bund.de
SUMMARY:Ausbildung zum Fachpersonal für Saunaaufgüsse – Praxis
DESCRIPTION:Praxis – Erleben\, Trainieren\, Anwenden \nUnter Anleitung erfahrener Aufgießer erlernen Sie verschiedene Wedeltechniken und den professionellen Einsatz unterschiedlicher Wedeltücher. Gemeinsam gestalten wir den Ablauf eines Aufgusszeremoniells und bereiten Sie gezielt auf den souveränen Umgang mit Ihren Gästen vor. \nDen Höhepunkt bildet die praktische Umsetzung im Saunaraum: Hier setzen Sie Ihr neues Wissen direkt in die Tat um – begleitet von fachlicher Unterstützung. \nMehr Informationen hier.
URL:https://sauna-bund.de/event/fachpersonal-fuer-saunaaufguesse-praxis-2/
LOCATION:Geschäftsstelle Deutscher Sauna-Bund e.V.\, Meisenstraße 83\, Bielefeld\, NRW\, 33607\, Germany
CATEGORIES:Inhouse Schulungen,Seminar
ORGANIZER;CN="Akademie Deutscher Sauna-Bund":MAILTO:r.klausing@sauna-bund.de
END:VEVENT
END:VCALENDAR